BEGIN:VCALENDAR
VERSION:2.0
PRODID:-//eventon.com NONSGML v1.0//EN
BEGIN:VEVENT
UID:69ecb9d84399b
DTSTAMP:20260425T145552
DTSTART:20260620T095600Z
DTEND:20260620T095600Z
LOCATION:
SUMMARY:Assemblée Générale CF Pyrénées-Atlantiques
DESCRIPTION: Assemblée Générale CF Pyrénées-Atlantiques
END:VEVENT
END:VCALENDAR