BEGIN:VCALENDAR
VERSION:2.0
PRODID:-//eventon.com NONSGML v1.0//EN
BEGIN:VEVENT
UID:69ecb8daa6a80
DTSTAMP:20260425T145138
DTSTART:20260506T130000Z
DTEND:20260506T143000Z
LOCATION:
SUMMARY:Webinaire franco-québécois "Mesures d'atténuation du risque feu de forêt"
DESCRIPTION: Communes forestières France et la SOPFEU (organisme désigné par le ministre de la Sécurité publique au Québec\,  en charge de la protection contre les incendies de forêts) coorganisent le webinaire « Mesures d’atténuation du risque incendie de forêt en France et au Québec » le mercredi 6 mai de 9h à 10h30[..]
END:VEVENT
END:VCALENDAR