BEGIN:VCALENDAR
VERSION:2.0
PRODID:-//eventon.com NONSGML v1.0//EN
BEGIN:VEVENT
UID:69ecb956e3add
DTSTAMP:20260425T145342
DTSTART:20260629T140000Z
DTEND:20260629T180000Z
LOCATION:Sarlat (24) 
SUMMARY:Dordogne - Conférence des Maires du Pays du Périgord Noir
DESCRIPTION: Le Pays du Périgord Noir compte 136 communes à l'est de la Dordogne. Collectivités forestières Limousin-Périgord sera présente pour montrer les nombreux projets forestiers que tout élu local peut porter sur sa commune ou sa communauté de communes. Nous animerons ensuite un stand où nous vous invitons à venir nous[..]
END:VEVENT
END:VCALENDAR