BEGIN:VCALENDAR
VERSION:2.0
PRODID:-//eventon.com NONSGML v1.0//EN
BEGIN:VEVENT
UID:69ecb8daa6a4c
DTSTAMP:20260425T145138
DTSTART:20260604T073000Z
DTEND:20260604T140000Z
LOCATION:Combiers (16) 
SUMMARY:Charente - journée de sensibilisation des propriétaires forestiers au risque d'incendies
DESCRIPTION: A l'initiative du Centre national de la propriété forestière\,  aux côtés des principales structures liées à ce sujet (SDIS\,  ONF\,  Pays Sud Charente...)\,  Communes forestières Nouvelle-Aquitaine sera présente à cette journée pour présenter son rôle auprès des élus en matière de risque feu de forêt (OLD\,  PCS\,  etc.). &nbsp; &nbsp;
END:VEVENT
END:VCALENDAR