BEGIN:VCALENDAR
VERSION:2.0
PRODID:-//eventon.com NONSGML v1.0//EN
BEGIN:VEVENT
UID:69ecb9d843b2b
DTSTAMP:20260425T145552
DTSTART:20260528T083000Z
DTEND:20260528T100000Z
LOCATION:Bordeaux (33) 
SUMMARY:Réunion d’ouverture de la campagne feu de végétation
DESCRIPTION: La Direction Régionale de l'Alimentation\,  de l'Agriculture et la Forêt convient toutes les parties prenantes sur le risque incendie à la réunion d'ouverture de la campagne feu de forêt pour 2026. Cette réunion régionale regroupe l'ensemble des DDT-M\,  les SDIS\,  la MIG DFCI de l'ONF\,  la DFCI Aquitaine\,  le GIP[..]
END:VEVENT
END:VCALENDAR