BEGIN:VCALENDAR
VERSION:2.0
PRODID:-//eventon.com NONSGML v1.0//EN
BEGIN:VEVENT
UID:69e8c0ffad8cd
DTSTAMP:20260422T143719
DTSTART:20260620T080000Z
DTEND:20260620T103000Z
LOCATION:La station 2 rue André Joseph Gastellu\,  64390 Sauveterre-de-Béarn
SUMMARY:Assemblée Générale CF Pyrénées-Atlantiques
DESCRIPTION: Assemblée Générale CF Pyrénées-Atlantiques
END:VEVENT
END:VCALENDAR