BEGIN:VCALENDAR
VERSION:2.0
PRODID:-//eventon.com NONSGML v1.0//EN
BEGIN:VEVENT
UID:69e663d67af83
DTSTAMP:20260420T193518
DTSTART:20250418T120000Z
DTEND:20250418T180000Z
LOCATION:Mairie d'Oloron-Sainte-Marie Place Georges Clemenceau\,  64400 Oloron-Sainte-Marie
SUMMARY:Conseil Administration Communes forestières des Pyrénées-Atlantiques - 18 avril 2025 à 18h
DESCRIPTION: Le prochain Conseil d'Administration élargi des Communes forestières des Pyrénées-Atlantiques aura lieu à la Mairie d'Oloron-Sainte-Marie\,  Salle Louis Barthou à 18h. En amont\,  une visite de terrain du Bois du Bager est organisée à 14h. Rendez-vous au parking du stade de St Pée/Café au Bar des Pyrénées. Inscrivez-vous ici ![..]
END:VEVENT
END:VCALENDAR