BEGIN:VCALENDAR
VERSION:2.0
PRODID:-//eventon.com NONSGML v1.0//EN
BEGIN:VEVENT
UID:69e702975929a
DTSTAMP:20260421T065239
DTSTART:20240524T063000Z
DTEND:20240524T150000Z
LOCATION:Fumel 4 place du Château
SUMMARY:47 - Journée de sensibilisation au risque incendie de forêt - Fumel
DESCRIPTION: La Préfecture du Lot-et-Garonne\,  en partenariat avec nous\,  convie tous les élus à une journée d'échange et d'information sur la prévention des feux de forêt. Au programme : Matin : (8h30 – 12h) ✗ Présentation du nouveau règlement interdépartemental de prévention des forêts contre les incendies (RIPFCI) ✗ Les obligations[..]
END:VEVENT
END:VCALENDAR