BEGIN:VCALENDAR
VERSION:2.0
PRODID:-//eventon.com NONSGML v1.0//EN
BEGIN:VEVENT
UID:69e6c6126718b
DTSTAMP:20260421T023426
DTSTART:20240410T160000Z
DTEND:20240410T193000Z
LOCATION:
SUMMARY:Association Pyrénées-Atlantiques - CA -
DESCRIPTION: Notre association des Pyrénées-Atlantiques se réunit  le 10 avril à 18h. Nous vous communiquerons prochainement l'ordre du jour et le lieu de la réunion.
END:VEVENT
END:VCALENDAR