BEGIN:VCALENDAR
VERSION:2.0
PRODID:-//eventon.com NONSGML v1.0//EN
BEGIN:VEVENT
UID:69e8b495eecda
DTSTAMP:20260422T134421
DTSTART:20240313T153000Z
DTEND:20240313T163000Z
LOCATION:sabres 
SUMMARY:40 - Sabres - Réunion d'information Risque incendie et responsabilités du Maire
DESCRIPTION: Afin de limiter et réduire l'impact des incendies\,  de nombreux départements en France sont soumis aux Obligations Légales de Débroussaillement (OLD). Le département des Landes est particulièrement concerné par ces mesures préventives. Les élus locaux jouent un rôle crucial dans la mise en œuvre des OLD sur leur territoire. Ils[..]
END:VEVENT
END:VCALENDAR