BEGIN:VCALENDAR
VERSION:2.0
PRODID:-//eventon.com NONSGML v1.0//EN
BEGIN:VEVENT
UID:69e4da545d8ba
DTSTAMP:20260419T153620
DTSTART:20221011T064500Z
DTEND:20221011T110000Z
LOCATION:Marie d'Ostabat-Asme (64) Le Bourg - 64120 Ostabat-Asme
SUMMARY:« Les forêts de nos territoires au service des constructions durables »
DESCRIPTION: L’URCOFOR Nouvelle-Aquitaine et La CAPB vous proposent une matinée d'échanges autour de retours d’expériences de bâtiments publics en bois locaux\,  le 11 octobre 2022\,  à la mairie d’OSATABAT-ASME (64) à partir de 8h45. Au programme: 9h-11h35 : Présentation d’outils et projets L’utilisation du bois local dans la construction et les[..]
END:VEVENT
END:VCALENDAR