BEGIN:VCALENDAR
VERSION:2.0
PRODID:-//eventon.com NONSGML v1.0//EN
BEGIN:VEVENT
UID:69e4d946a9261
DTSTAMP:20260419T153150
DTSTART:20201211T073000Z
DTEND:20201211T103000Z
LOCATION:
SUMMARY:Assemblée générale de la FNCOFOR 2020 : inscriptions en ligne
DESCRIPTION: L'assemblée générale de la Fédération nationale des Communes forestières aura lieu le 11 décembre 2020\,  en visioconférence. Les inscriptions sont ouvertes en ligne jusqu'au 8 décembre. Les participants inscrits recevront leur code d'accès à la visioconférence\,  au plus tard deux jours avant l'assemblée générale à leur adresse mail indiquée dans[..]
END:VEVENT
END:VCALENDAR